BEGIN:VCALENDAR
VERSION:2.0
PRODID:-//wp-events-plugin.com//7.2.3.1//EN
TZID:Europe/Amsterdam
X-WR-TIMEZONE:Europe/Amsterdam
BEGIN:VEVENT
UID:5@lichtopdezaak.nl
DTSTART:20191220T080000Z
DTEND:20191220T160000Z
DTSTAMP:20190228T124921Z
URL:https://lichtopdezaak.nl/events/de-kunst-van-samenwerken-4/
SUMMARY:De Kunst van Samenwerken
DESCRIPTION:In één dag\, maak je kennis met een speelse\, effectieve inte
 ractiemethode om het communicatiegedrag in teams te verhelderen en leer je
  een model toe te passen dat rol\, doel en context met elkaar verbindt wa
 ardoor je conflicten in teams beter kunt oplossen.\nDe workshop bestaat ui
 t een mix van onderzoeken\, oefenen en theorie. Met het geleerde kun je di
 rect een eerste stap zetten in je werkomgeving.\nIn deze SCT® workshop  
 leer je\n- experimenteren met nieuw verbaal gedrag\n- beter om te gaan met
  conflict\, stress en irritatie\n- helder en beknopt communiceren\n- nieuw
 sgierig blijven op het punt waar je het niet weet\n- het verschil tussen b
 edacht en authentiek communiceren\n\nDe Kunst van Samenwerken is een intro
 ductieworkshop Systems-Centered® Training.\n\nTrainer: Peter Kunneman\, g
 eassisteerd door Shanta Baan\n\nDeze ééndaagse workshop kost  € 295
  exclusief 21% BTW\, inclusief lunch\, koffie en thee.
LOCATION:Landhuis in de stad\, Park Oog in Al 1\, Utrecht\, 3533 HE\, Neder
 land
X-APPLE-STRUCTURED-LOCATION;VALUE=URI;X-ADDRESS=Park Oog in Al 1\, Utrecht\
 , 3533 HE\, Nederland;X-APPLE-RADIUS=100;X-TITLE=Landhuis in de stad:geo:0
 ,0
END:VEVENT
END:VCALENDAR