BEGIN:VCALENDAR
VERSION:2.0
PRODID:-//wp-events-plugin.com//7.2.3.1//EN
TZID:Europe/Amsterdam
X-WR-TIMEZONE:Europe/Amsterdam
BEGIN:VEVENT
UID:9@lichtopdezaak.nl
DTSTART;TZID=Europe/Amsterdam:20201008T090000
DTEND;TZID=Europe/Amsterdam:20201009T170000
DTSTAMP:20200812T184417Z
URL:https://lichtopdezaak.nl/events/savi-introductietraining-4/
SUMMARY:SAVI Introductietraining VOL
DESCRIPTION:
END:VEVENT
BEGIN:VTIMEZONE
TZID:Europe/Amsterdam
X-LIC-LOCATION:Europe/Amsterdam
BEGIN:DAYLIGHT
DTSTART:20200329T030000
TZOFFSETFROM:+0100
TZOFFSETTO:+0200
TZNAME:CEST
END:DAYLIGHT
END:VTIMEZONE
END:VCALENDAR