BEGIN:VCALENDAR
VERSION:2.0
PRODID:-//wp-events-plugin.com//7.2.3.1//EN
TZID:Europe/Amsterdam
X-WR-TIMEZONE:Europe/Amsterdam
BEGIN:VEVENT
UID:22@lichtopdezaak.nl
DTSTART;TZID=Europe/Amsterdam:20231109T090000
DTEND;TZID=Europe/Amsterdam:20231110T170000
DTSTAMP:20230417T212730Z
URL:https://lichtopdezaak.nl/events/savi-introductietraining-8/
SUMMARY:SAVI® Introductietraining
DESCRIPTION:
END:VEVENT
BEGIN:VTIMEZONE
TZID:Europe/Amsterdam
X-LIC-LOCATION:Europe/Amsterdam
BEGIN:STANDARD
DTSTART:20231029T020000
TZOFFSETFROM:+0200
TZOFFSETTO:+0100
TZNAME:CET
END:STANDARD
END:VTIMEZONE
END:VCALENDAR