BEGIN:VCALENDAR
VERSION:2.0
PRODID:-//wp-events-plugin.com//7.2.3.1//EN
TZID:Europe/Amsterdam
X-WR-TIMEZONE:Europe/Amsterdam
BEGIN:VEVENT
UID:12@lichtopdezaak.nl
DTSTART;TZID=Europe/Amsterdam:20201218T090000
DTEND;TZID=Europe/Amsterdam:20201218T170000
DTSTAMP:20200128T221723Z
URL:https://lichtopdezaak.nl/events/workshop-de-kunst-van-samenwerken-2/
SUMMARY:Workshop De Kunst van Samenwerken
DESCRIPTION:
LOCATION:Landhuis in de stad\, Park Oog in Al 1\, Utrecht\, 3533 HE\, Neder
 land
X-APPLE-STRUCTURED-LOCATION;VALUE=URI;X-ADDRESS=Park Oog in Al 1\, Utrecht\
 , 3533 HE\, Nederland;X-APPLE-RADIUS=100;X-TITLE=Landhuis in de stad:geo:0
 ,0
END:VEVENT
BEGIN:VTIMEZONE
TZID:Europe/Amsterdam
X-LIC-LOCATION:Europe/Amsterdam
BEGIN:STANDARD
DTSTART:20201025T020000
TZOFFSETFROM:+0200
TZOFFSETTO:+0100
TZNAME:CET
END:STANDARD
END:VTIMEZONE
END:VCALENDAR